BEGIN:VCALENDAR
VERSION:2.0
PRODID:-//LOMA - ECPv6.15.20//NONSGML v1.0//EN
CALSCALE:GREGORIAN
METHOD:PUBLISH
X-ORIGINAL-URL:https://lomalondon.org
X-WR-CALDESC:Events for LOMA
REFRESH-INTERVAL;VALUE=DURATION:PT1H
X-Robots-Tag:noindex
X-PUBLISHED-TTL:PT1H
BEGIN:VTIMEZONE
TZID:America/Toronto
BEGIN:DAYLIGHT
TZOFFSETFROM:-0500
TZOFFSETTO:-0400
TZNAME:EDT
DTSTART:20200308T070000
END:DAYLIGHT
BEGIN:STANDARD
TZOFFSETFROM:-0400
TZOFFSETTO:-0500
TZNAME:EST
DTSTART:20201101T060000
END:STANDARD
BEGIN:DAYLIGHT
TZOFFSETFROM:-0500
TZOFFSETTO:-0400
TZNAME:EDT
DTSTART:20210314T070000
END:DAYLIGHT
BEGIN:STANDARD
TZOFFSETFROM:-0400
TZOFFSETTO:-0500
TZNAME:EST
DTSTART:20211107T060000
END:STANDARD
BEGIN:DAYLIGHT
TZOFFSETFROM:-0500
TZOFFSETTO:-0400
TZNAME:EDT
DTSTART:20220313T070000
END:DAYLIGHT
BEGIN:STANDARD
TZOFFSETFROM:-0400
TZOFFSETTO:-0500
TZNAME:EST
DTSTART:20221106T060000
END:STANDARD
BEGIN:DAYLIGHT
TZOFFSETFROM:-0500
TZOFFSETTO:-0400
TZNAME:EDT
DTSTART:20230312T070000
END:DAYLIGHT
BEGIN:STANDARD
TZOFFSETFROM:-0400
TZOFFSETTO:-0500
TZNAME:EST
DTSTART:20231105T060000
END:STANDARD
BEGIN:DAYLIGHT
TZOFFSETFROM:-0500
TZOFFSETTO:-0400
TZNAME:EDT
DTSTART:20240310T070000
END:DAYLIGHT
BEGIN:STANDARD
TZOFFSETFROM:-0400
TZOFFSETTO:-0500
TZNAME:EST
DTSTART:20241103T060000
END:STANDARD
BEGIN:DAYLIGHT
TZOFFSETFROM:-0500
TZOFFSETTO:-0400
TZNAME:EDT
DTSTART:20250309T070000
END:DAYLIGHT
BEGIN:STANDARD
TZOFFSETFROM:-0400
TZOFFSETTO:-0500
TZNAME:EST
DTSTART:20251102T060000
END:STANDARD
BEGIN:DAYLIGHT
TZOFFSETFROM:-0500
TZOFFSETTO:-0400
TZNAME:EDT
DTSTART:20260308T070000
END:DAYLIGHT
BEGIN:STANDARD
TZOFFSETFROM:-0400
TZOFFSETTO:-0500
TZNAME:EST
DTSTART:20261101T060000
END:STANDARD
END:VTIMEZONE
BEGIN:VEVENT
DTSTART;TZID=America/Toronto:20250920T110000
DTEND;TZID=America/Toronto:20250920T180000
DTSTAMP:20260422T071125
CREATED:20250801T192405Z
LAST-MODIFIED:20250801T192405Z
UID:13996-1758366000-1758391200@lomalondon.org
SUMMARY:Thiruvona Madhuram 2025
DESCRIPTION:✨🌼വിഭവസമൃദ്ധമായ ഓണസദ്യയും\, തിരുവാതിര മത്സരവും\, കലാപരിപാടികളുമായി വർണാഭമായ സുദിനം LOMA നിങ്ങൾക്കായി ഒരുക്കുന്നു(SEPTEMBER 20th). ഏവർക്കും സ്വാഗതം🙏.
URL:https://lomalondon.org/event/thiruvona-madhuram-2025/
LOCATION:Saunders Secondary School\, 941 Viscount Rd\, London\, Ontario\, N6K 1H5\, Canada
CATEGORIES:Events
ATTACH;FMTTYPE=image/jpeg:https://lomalondon.org/wp-content/uploads/2025/08/WhatsApp-Image-2025-08-01-at-3.14.43-PM.jpeg
END:VEVENT
BEGIN:VEVENT
DTSTART;TZID=America/Toronto:20241214T160000
DTEND;TZID=America/Toronto:20241214T210000
DTSTAMP:20260422T071125
CREATED:20241122T153028Z
LAST-MODIFIED:20241122T153504Z
UID:13239-1734192000-1734210000@lomalondon.org
SUMMARY:Merry Eve & Miraculous 2025
DESCRIPTION:Dinner Included
URL:https://lomalondon.org/event/merry-eve-miraculous-2025/
LOCATION:Saunders Secondary School\, 941 Viscount Rd\, London\, Ontario\, N6K 1H5\, Canada
CATEGORIES:Events
ATTACH;FMTTYPE=image/jpeg:https://lomalondon.org/wp-content/uploads/2024/11/WhatsApp-Image-2024-11-22-at-10.26.00-AM.jpeg
END:VEVENT
BEGIN:VEVENT
DTSTART;TZID=America/Toronto:20240928T100000
DTEND;TZID=America/Toronto:20240928T170000
DTSTAMP:20260422T071125
CREATED:20240818T020922Z
LAST-MODIFIED:20240927T173536Z
UID:11925-1727517600-1727542800@lomalondon.org
SUMMARY:Thiruvona Madhuram 2024
DESCRIPTION:
URL:https://lomalondon.org/event/thiruvona-madhuram-2024/
LOCATION:Saunders Secondary School\, 941 Viscount Rd\, London\, Ontario\, N6K 1H5\, Canada
ATTACH;FMTTYPE=image/png:https://lomalondon.org/wp-content/uploads/2024/08/onam-sadhya.png
END:VEVENT
BEGIN:VEVENT
DTSTART;TZID=America/Toronto:20240713T140000
DTEND;TZID=America/Toronto:20240713T200000
DTSTAMP:20260422T071125
CREATED:20240620T043323Z
LAST-MODIFIED:20240713T160531Z
UID:11693-1720879200-1720900800@lomalondon.org
SUMMARY:LOMA Picnic 2024
DESCRIPTION:
URL:https://lomalondon.org/event/loma-picnic-2024/
LOCATION:Ontario
CATEGORIES:Events
ATTACH;FMTTYPE=image/jpeg:https://lomalondon.org/wp-content/uploads/2024/06/WhatsApp-Image-2024-06-18-at-9.05.26-PM.jpeg
END:VEVENT
BEGIN:VEVENT
DTSTART;VALUE=DATE:20231216
DTEND;VALUE=DATE:20231217
DTSTAMP:20260422T071125
CREATED:20231121T005024Z
LAST-MODIFIED:20231213T204637Z
UID:11105-1702684800-1702771199@lomalondon.org
SUMMARY:Christmas & New Year Celebration 2023-2024
DESCRIPTION:
URL:https://lomalondon.org/event/christmas-new-year-celebration-2023/
LOCATION:Saunders Secondary School\, 941 Viscount Rd\, London\, Ontario\, N6K 1H5\, Canada
ATTACH;FMTTYPE=image/jpeg:https://lomalondon.org/wp-content/uploads/2023/11/loma-londonchrist-11111.jpg
END:VEVENT
BEGIN:VEVENT
DTSTART;VALUE=DATE:20230902
DTEND;VALUE=DATE:20230903
DTSTAMP:20260422T071125
CREATED:20230817T082624Z
LAST-MODIFIED:20230831T011505Z
UID:10453-1693612800-1693699199@lomalondon.org
SUMMARY:Ponnonam 2023
DESCRIPTION:
URL:https://lomalondon.org/event/ponnonam-2023/
LOCATION:Delaware Community Centre\, 2652 Gideon Dr\, Delaware\, Ontario\, N0L 1E0\, Canada
CATEGORIES:Events
ATTACH;FMTTYPE=image/png:https://lomalondon.org/wp-content/uploads/2023/08/onem771123.png
END:VEVENT
BEGIN:VEVENT
DTSTART;VALUE=DATE:20230701
DTEND;VALUE=DATE:20230702
DTSTAMP:20260422T071125
CREATED:20230619T141154Z
LAST-MODIFIED:20230629T054809Z
UID:10305-1688169600-1688255999@lomalondon.org
SUMMARY:LOMA Picnic 2023
DESCRIPTION:
URL:https://lomalondon.org/event/loma-picinic-2023/
LOCATION:Ilderton\, 24375 Poplar Hill Rd\, Ilderton\, ON\, N0M 2A0\, Canada
CATEGORIES:Events
ATTACH;FMTTYPE=image/png:https://lomalondon.org/wp-content/uploads/2023/06/qq20770263.png
END:VEVENT
BEGIN:VEVENT
DTSTART;TZID=America/Toronto:20221217T170000
DTEND;TZID=America/Toronto:20221217T220000
DTSTAMP:20260422T071125
CREATED:20221203T171046Z
LAST-MODIFIED:20221217T035911Z
UID:9943-1671296400-1671314400@lomalondon.org
SUMMARY:Christmas Celebration 2022
DESCRIPTION:
URL:https://lomalondon.org/event/christmas-celebration-2022/
LOCATION:A. B. LUCAS SECONDARY SCHOOL\, 656 TENNENT AVE\, LONDON\, Ontario\, N5X 1L8\, Canada
CATEGORIES:Events
ATTACH;FMTTYPE=image/jpeg:https://lomalondon.org/wp-content/uploads/2022/12/christmas-celebration-2022.jpg
END:VEVENT
BEGIN:VEVENT
DTSTART;VALUE=DATE:20220924
DTEND;VALUE=DATE:20220925
DTSTAMP:20260422T071125
CREATED:20220831T194138Z
LAST-MODIFIED:20220921T164017Z
UID:9462-1663977600-1664063999@lomalondon.org
SUMMARY:Thiruvathira Competition 2022
DESCRIPTION:
URL:https://lomalondon.org/event/thiruvathira-competition-2022/
LOCATION:Ontario
ATTACH;FMTTYPE=image/jpeg:https://lomalondon.org/wp-content/uploads/2022/08/onam-2022.jpg
END:VEVENT
BEGIN:VEVENT
DTSTART;VALUE=DATE:20220924
DTEND;VALUE=DATE:20220925
DTSTAMP:20260422T071125
CREATED:20220831T192201Z
LAST-MODIFIED:20220923T181811Z
UID:9457-1663977600-1664063999@lomalondon.org
SUMMARY:Ponnonam 2022
DESCRIPTION:
URL:https://lomalondon.org/event/ponnonam-2022/
LOCATION:Ontario
CATEGORIES:Events
ATTACH;FMTTYPE=image/jpeg:https://lomalondon.org/wp-content/uploads/2021/02/onam-2.jpg
END:VEVENT
BEGIN:VEVENT
DTSTART;VALUE=DATE:20220918
DTEND;VALUE=DATE:20220919
DTSTAMP:20260422T071125
CREATED:20220831T190000Z
LAST-MODIFIED:20220831T195115Z
UID:9449-1663459200-1663545599@lomalondon.org
SUMMARY:Athapookalam Competition 2022
DESCRIPTION:
URL:https://lomalondon.org/event/athapookalam-competition-2022/
LOCATION:Ontario
CATEGORIES:Events
ATTACH;FMTTYPE=image/jpeg:https://lomalondon.org/wp-content/uploads/2021/07/loma-pooka.jpg
END:VEVENT
BEGIN:VEVENT
DTSTART;VALUE=DATE:20220716
DTEND;VALUE=DATE:20220717
DTSTAMP:20260422T071125
CREATED:20220707T140843Z
LAST-MODIFIED:20220715T031646Z
UID:9407-1657929600-1658015999@lomalondon.org
SUMMARY:LOMA Picnic 2022
DESCRIPTION:
URL:https://lomalondon.org/event/loma-picnic-2022/
LOCATION:Ilderton\, 24375 Poplar Hill Rd\, Ilderton\, ON\, N0M 2A0\, Canada
CATEGORIES:Events
ATTACH;FMTTYPE=image/jpeg:https://lomalondon.org/wp-content/uploads/2022/07/loma-pick.jpg
END:VEVENT
BEGIN:VEVENT
DTSTART;VALUE=DATE:20220223
DTEND;VALUE=DATE:20220225
DTSTAMP:20260422T071125
CREATED:20210705T194431Z
LAST-MODIFIED:20210706T003243Z
UID:8763-1645642800-1645729199@lomalondon.org
SUMMARY:Annual General Meeting
DESCRIPTION:
URL:https://lomalondon.org/event/agm-and-elections/
LOCATION:Ontario
CATEGORIES:Events
ATTACH;FMTTYPE=image/jpeg:https://lomalondon.org/wp-content/uploads/2021/07/AGM-and-Elections.jpg
END:VEVENT
BEGIN:VEVENT
DTSTART;VALUE=DATE:20211217
DTEND;VALUE=DATE:20211219
DTSTAMP:20260422T071125
CREATED:20210705T193542Z
LAST-MODIFIED:20210705T193542Z
UID:8761-1639767600-1639853999@lomalondon.org
SUMMARY:Christmas Celebration
DESCRIPTION:
URL:https://lomalondon.org/event/christmas-celebration/
LOCATION:Ontario
CATEGORIES:Events
ATTACH;FMTTYPE=image/jpeg:https://lomalondon.org/wp-content/uploads/2021/07/christmas-celebration.jpg
END:VEVENT
BEGIN:VEVENT
DTSTART;VALUE=DATE:20211022
DTEND;VALUE=DATE:20211024
DTSTAMP:20260422T071125
CREATED:20210705T045424Z
LAST-MODIFIED:20210705T045735Z
UID:8748-1634932800-1635019199@lomalondon.org
SUMMARY:Talent Show
DESCRIPTION:
URL:https://lomalondon.org/event/talent-show/
LOCATION:Ontario
CATEGORIES:Events
ATTACH;FMTTYPE=image/jpeg:https://lomalondon.org/wp-content/uploads/2021/07/talent.jpg
END:VEVENT
BEGIN:VEVENT
DTSTART;VALUE=DATE:20210911
DTEND;VALUE=DATE:20210912
DTSTAMP:20260422T071125
CREATED:20210705T190450Z
LAST-MODIFIED:20210910T230934Z
UID:8751-1631318400-1631404799@lomalondon.org
SUMMARY:Ponnonam 2021
DESCRIPTION:Free for Kids under age 5
URL:https://lomalondon.org/event/onam-2021/
LOCATION:Ontario
CATEGORIES:Events
ATTACH;FMTTYPE=image/jpeg:https://lomalondon.org/wp-content/uploads/2021/02/onam-2.jpg
END:VEVENT
BEGIN:VEVENT
DTSTART;VALUE=DATE:20210819
DTEND;VALUE=DATE:20210821
DTSTAMP:20260422T071125
CREATED:20210727T231303Z
LAST-MODIFIED:20210727T231507Z
UID:8992-1629403200-1629489599@lomalondon.org
SUMMARY:Athapookala Malsaram
DESCRIPTION:
URL:https://lomalondon.org/event/athapookala-malsaram/
LOCATION:Ontario
CATEGORIES:Events
ATTACH;FMTTYPE=image/jpeg:https://lomalondon.org/wp-content/uploads/2021/07/loma-pooka.jpg
END:VEVENT
END:VCALENDAR